BEGIN:VCALENDAR
VERSION:2.0
PRODID:-//Alaska Storytellers - ECPv6.15.14//NONSGML v1.0//EN
CALSCALE:GREGORIAN
METHOD:PUBLISH
X-WR-CALNAME:Alaska Storytellers
X-ORIGINAL-URL:https://alaskastorytellers.com
X-WR-CALDESC:Events for Alaska Storytellers
REFRESH-INTERVAL;VALUE=DURATION:PT1H
X-Robots-Tag:noindex
X-PUBLISHED-TTL:PT1H
BEGIN:VTIMEZONE
TZID:America/Sitka
BEGIN:DAYLIGHT
TZOFFSETFROM:-0900
TZOFFSETTO:-0800
TZNAME:AKDT
DTSTART:20240310T110000
END:DAYLIGHT
BEGIN:STANDARD
TZOFFSETFROM:-0800
TZOFFSETTO:-0900
TZNAME:AKST
DTSTART:20241103T100000
END:STANDARD
BEGIN:DAYLIGHT
TZOFFSETFROM:-0900
TZOFFSETTO:-0800
TZNAME:AKDT
DTSTART:20250309T110000
END:DAYLIGHT
BEGIN:STANDARD
TZOFFSETFROM:-0800
TZOFFSETTO:-0900
TZNAME:AKST
DTSTART:20251102T100000
END:STANDARD
BEGIN:DAYLIGHT
TZOFFSETFROM:-0900
TZOFFSETTO:-0800
TZNAME:AKDT
DTSTART:20260308T110000
END:DAYLIGHT
BEGIN:STANDARD
TZOFFSETFROM:-0800
TZOFFSETTO:-0900
TZNAME:AKST
DTSTART:20261101T100000
END:STANDARD
END:VTIMEZONE
BEGIN:VEVENT
DTSTART;TZID=America/Sitka:20250901T123000
DTEND;TZID=America/Sitka:20250901T130000
DTSTAMP:20260423T033432
CREATED:20250419T133955Z
LAST-MODIFIED:20250419T133955Z
UID:459-1756729800-1756731600@alaskastorytellers.com
SUMMARY:Alaska Storytellers Show: HCH
DESCRIPTION:Alaska Storytellers show at Harrigan Centennial Hall (HCH).\n\nTickets are available at the door within 30 minutes of showtime or may be purchased in advance.\n\nKids 10 and under FREE w/paying adult.\n\nTIME AND VENUE SUBJECT TO CHANGE\, so check www.alaskastorytellers.com for updates.
URL:https://alaskastorytellers.com/ticket/alaska-storytellers-show-hch-3/
LOCATION:Harrigan Centennial Hall\, 330 Harbor Dr\, Sitka\, AK\, 99835\, United States
CATEGORIES:Showtimes
ORGANIZER;CN="Alaska Storytellers":MAILTO:friends@alaskastorytellers.com
END:VEVENT
BEGIN:VEVENT
DTSTART;TZID=America/Sitka:20250902T123000
DTEND;TZID=America/Sitka:20250902T130000
DTSTAMP:20260423T033432
CREATED:20250419T134107Z
LAST-MODIFIED:20250419T134107Z
UID:461-1756816200-1756818000@alaskastorytellers.com
SUMMARY:Alaska Storytellers Show: HCH
DESCRIPTION:Alaska Storytellers performance at Harrigan Centennial Hall (HCH).\n\nTickets are available at the door within 30 minutes of showtime or may be purchased in advance.\n\nKids 10 and under FREE w/paying adult.\n\nTIME AND VENUE SUBJECT TO CHANGE\, so check www.alaskastorytellers.com for updates.
URL:https://alaskastorytellers.com/ticket/alaska-storytellers-show-hch-15/
LOCATION:Harrigan Centennial Hall\, 330 Harbor Dr\, Sitka\, AK\, 99835\, United States
CATEGORIES:Showtimes
ORGANIZER;CN="Alaska Storytellers":MAILTO:friends@alaskastorytellers.com
END:VEVENT
BEGIN:VEVENT
DTSTART;TZID=America/Sitka:20250903T123000
DTEND;TZID=America/Sitka:20250903T130000
DTSTAMP:20260423T033432
CREATED:20250419T134643Z
LAST-MODIFIED:20250419T134643Z
UID:465-1756902600-1756904400@alaskastorytellers.com
SUMMARY:Alaska Storytellers Show: SC
DESCRIPTION:Alaska Storytellers show at Sitka Cirque (SC) 207 Smith Street.\n\nTickets are available at the door within 30 minutes of showtime or may be purchased in advance.\n\nKids 10 and under FREE w/paying adult.\n\nTIME AND VENUE SUBJECT TO CHANGE\, so check back for updates.
URL:https://alaskastorytellers.com/ticket/alaska-storytellers-show-sc-8/
LOCATION:Harrigan Centennial Hall\, 330 Harbor Dr\, Sitka\, AK\, 99835\, United States
CATEGORIES:Showtimes
ORGANIZER;CN="Alaska Storytellers":MAILTO:friends@alaskastorytellers.com
END:VEVENT
BEGIN:VEVENT
DTSTART;TZID=America/Sitka:20250905T123000
DTEND;TZID=America/Sitka:20250905T130000
DTSTAMP:20260423T033432
CREATED:20250419T134211Z
LAST-MODIFIED:20250419T134211Z
UID:463-1757075400-1757077200@alaskastorytellers.com
SUMMARY:Alaska Storytellers Show: HCH
DESCRIPTION:Alaska Storytellers performance at Harrigan Centennial Hall (HCH).\n\nTickets are available at the door within 30 minutes of showtime or may be purchased in advance.\n\nKids 10 and under FREE w/paying adult.\n\nTIME AND VENUE SUBJECT TO CHANGE\, so check www.alaskastorytellers.com for updates.
URL:https://alaskastorytellers.com/ticket/alaska-storytellers-show-hch-16/
LOCATION:Harrigan Centennial Hall\, 330 Harbor Dr\, Sitka\, AK\, 99835\, United States
CATEGORIES:Showtimes
ORGANIZER;CN="Alaska Storytellers":MAILTO:friends@alaskastorytellers.com
END:VEVENT
BEGIN:VEVENT
DTSTART;TZID=America/Sitka:20250907T123000
DTEND;TZID=America/Sitka:20250907T130000
DTSTAMP:20260423T033432
CREATED:20250419T134717Z
LAST-MODIFIED:20250419T134717Z
UID:467-1757248200-1757250000@alaskastorytellers.com
SUMMARY:Alaska Storytellers Show: HCH
DESCRIPTION:Alaska Storytellers performance at Harrigan Centennial Hall (HCH).\n\nTickets are available at the door within 30 minutes of showtime or may be purchased in advance.\n\nKids 10 and under FREE w/paying adult.\n\nTIME AND VENUE SUBJECT TO CHANGE\, so check www.alaskastorytellers.com for updates.
URL:https://alaskastorytellers.com/ticket/alaska-storytellers-show-hch-17/
LOCATION:Harrigan Centennial Hall\, 330 Harbor Dr\, Sitka\, AK\, 99835\, United States
CATEGORIES:Showtimes
ORGANIZER;CN="Alaska Storytellers":MAILTO:friends@alaskastorytellers.com
END:VEVENT
BEGIN:VEVENT
DTSTART;TZID=America/Sitka:20250909T123000
DTEND;TZID=America/Sitka:20250909T130000
DTSTAMP:20260423T033432
CREATED:20250419T134932Z
LAST-MODIFIED:20250520T044647Z
UID:469-1757421000-1757422800@alaskastorytellers.com
SUMMARY:Alaska Storytellers Show: HCH
DESCRIPTION:Alaska Storytellers performance at Harrigan Centennial Hall (HCH).\n\nTickets are available at the door within 30 minutes of showtime or may be purchased in advance.\n\nKids 10 and under FREE w/paying adult.\n\nTIME AND VENUE SUBJECT TO CHANGE\, so check www.alaskastorytellers.com for updates.
URL:https://alaskastorytellers.com/ticket/alaska-storytellers-show-hch-18/
LOCATION:Harrigan Centennial Hall\, 330 Harbor Dr\, Sitka\, AK\, 99835\, United States
CATEGORIES:Showtimes
ORGANIZER;CN="Alaska Storytellers":MAILTO:friends@alaskastorytellers.com
END:VEVENT
BEGIN:VEVENT
DTSTART;TZID=America/Sitka:20250910T123000
DTEND;TZID=America/Sitka:20250910T130000
DTSTAMP:20260423T033432
CREATED:20250419T135832Z
LAST-MODIFIED:20250419T135832Z
UID:471-1757507400-1757509200@alaskastorytellers.com
SUMMARY:Alaska Storytellers Show: SC
DESCRIPTION:Alaska Storytellers show at Sitka Cirque (SC) 207 Smith Street.\n\nTickets are available at the door within 30 minutes of showtime or may be purchased in advance.\n\nKids 10 and under FREE w/paying adult.\n\nTIME AND VENUE SUBJECT TO CHANGE\, so check back for updates.
URL:https://alaskastorytellers.com/ticket/alaska-storytellers-show-sc-9/
LOCATION:Harrigan Centennial Hall\, 330 Harbor Dr\, Sitka\, AK\, 99835\, United States
CATEGORIES:Showtimes
ORGANIZER;CN="Alaska Storytellers":MAILTO:friends@alaskastorytellers.com
END:VEVENT
BEGIN:VEVENT
DTSTART;TZID=America/Sitka:20250911T123000
DTEND;TZID=America/Sitka:20250911T130000
DTSTAMP:20260423T033432
CREATED:20250419T140005Z
LAST-MODIFIED:20250419T140005Z
UID:475-1757593800-1757595600@alaskastorytellers.com
SUMMARY:Alaska Storytellers Show: HCH
DESCRIPTION:Alaska Storytellers performance at Harrigan Centennial Hall (HCH).\n\nTickets are available at the door within 30 minutes of showtime or may be purchased in advance.\n\nKids 10 and under FREE w/paying adult.\n\nTIME AND VENUE SUBJECT TO CHANGE\, so check www.alaskastorytellers.com for updates.
URL:https://alaskastorytellers.com/ticket/alaska-storytellers-show-hch-20/
LOCATION:Harrigan Centennial Hall\, 330 Harbor Dr\, Sitka\, AK\, 99835\, United States
CATEGORIES:Showtimes
ORGANIZER;CN="Alaska Storytellers":MAILTO:friends@alaskastorytellers.com
END:VEVENT
BEGIN:VEVENT
DTSTART;TZID=America/Sitka:20250913T123000
DTEND;TZID=America/Sitka:20250913T130000
DTSTAMP:20260423T033432
CREATED:20250419T140043Z
LAST-MODIFIED:20250419T140043Z
UID:477-1757766600-1757768400@alaskastorytellers.com
SUMMARY:Alaska Storytellers Show: HCH
DESCRIPTION:Alaska Storytellers performance at Harrigan Centennial Hall (HCH).\n\nTickets are available at the door within 30 minutes of showtime or may be purchased in advance.\n\nKids 10 and under FREE w/paying adult.\n\nTIME AND VENUE SUBJECT TO CHANGE\, so check www.alaskastorytellers.com for updates.
URL:https://alaskastorytellers.com/ticket/alaska-storytellers-show-hch-21/
LOCATION:Harrigan Centennial Hall\, 330 Harbor Dr\, Sitka\, AK\, 99835\, United States
CATEGORIES:Showtimes
ORGANIZER;CN="Alaska Storytellers":MAILTO:friends@alaskastorytellers.com
END:VEVENT
BEGIN:VEVENT
DTSTART;TZID=America/Sitka:20250916T123000
DTEND;TZID=America/Sitka:20250916T130000
DTSTAMP:20260423T033432
CREATED:20250419T140845Z
LAST-MODIFIED:20250917T044754Z
UID:480-1758025800-1758027600@alaskastorytellers.com
SUMMARY:CANCELLED  Alaska Storytellers Show: SC
DESCRIPTION:Alaska Storytellers show at Sitka Cirque (SC) 207 Smith Street.\n\nTickets are available at the door within 30 minutes of showtime or may be purchased in advance.\n\nKids 10 and under FREE w/paying adult.\n\nTIME AND VENUE SUBJECT TO CHANGE\, so check back for updates.
URL:https://alaskastorytellers.com/ticket/alaska-storytellers-show-sc-10/
LOCATION:Harrigan Centennial Hall\, 330 Harbor Dr\, Sitka\, AK\, 99835\, United States
CATEGORIES:Showtimes
ORGANIZER;CN="Alaska Storytellers":MAILTO:friends@alaskastorytellers.com
END:VEVENT
BEGIN:VEVENT
DTSTART;TZID=America/Sitka:20250917T123000
DTEND;TZID=America/Sitka:20250917T130000
DTSTAMP:20260423T033432
CREATED:20250419T140919Z
LAST-MODIFIED:20250917T044552Z
UID:482-1758112200-1758114000@alaskastorytellers.com
SUMMARY:CANCELLED Alaska Storytellers Show: SC
DESCRIPTION:Alaska Storytellers show at Sitka Cirque (SC) 207 Smith Street.\n\nTickets are available at the door within 30 minutes of showtime or may be purchased in advance.\n\nKids 10 and under FREE w/paying adult.\n\nTIME AND VENUE SUBJECT TO CHANGE\, so check back for updates.
URL:https://alaskastorytellers.com/ticket/alaska-storytellers-show-sc-11/
LOCATION:Harrigan Centennial Hall\, 330 Harbor Dr\, Sitka\, AK\, 99835\, United States
CATEGORIES:Showtimes
ORGANIZER;CN="Alaska Storytellers":MAILTO:friends@alaskastorytellers.com
END:VEVENT
BEGIN:VEVENT
DTSTART;TZID=America/Sitka:20250919T123000
DTEND;TZID=America/Sitka:20250919T130000
DTSTAMP:20260423T033432
CREATED:20250419T135907Z
LAST-MODIFIED:20250419T140806Z
UID:473-1758285000-1758286800@alaskastorytellers.com
SUMMARY:Alaska Storytellers Show: HCH
DESCRIPTION:Alaska Storytellers performance at Harrigan Centennial Hall (HCH).\n\nTickets are available at the door within 30 minutes of showtime or may be purchased in advance.\n\nKids 10 and under FREE w/paying adult.\n\nTIME AND VENUE SUBJECT TO CHANGE\, so check www.alaskastorytellers.com for updates.
URL:https://alaskastorytellers.com/ticket/alaska-storytellers-show-hch-19/
LOCATION:Harrigan Centennial Hall\, 330 Harbor Dr\, Sitka\, AK\, 99835\, United States
CATEGORIES:Showtimes
ORGANIZER;CN="Alaska Storytellers":MAILTO:friends@alaskastorytellers.com
END:VEVENT
BEGIN:VEVENT
DTSTART;TZID=America/Sitka:20250922T123000
DTEND;TZID=America/Sitka:20250922T130000
DTSTAMP:20260423T033432
CREATED:20250419T141313Z
LAST-MODIFIED:20250419T141313Z
UID:486-1758544200-1758546000@alaskastorytellers.com
SUMMARY:Alaska Storytellers Show: HCH
DESCRIPTION:Alaska Storytellers performance at Harrigan Centennial Hall (HCH).\n\nTickets are available at the door within 30 minutes of showtime or may be purchased in advance.\n\nKids 10 and under FREE w/paying adult.\n\nTIME AND VENUE SUBJECT TO CHANGE\, so check www.alaskastorytellers.com for updates.
URL:https://alaskastorytellers.com/ticket/alaska-storytellers-show-hch-22/
LOCATION:Harrigan Centennial Hall\, 330 Harbor Dr\, Sitka\, AK\, 99835\, United States
CATEGORIES:Showtimes
ORGANIZER;CN="Alaska Storytellers":MAILTO:friends@alaskastorytellers.com
END:VEVENT
BEGIN:VEVENT
DTSTART;TZID=America/Sitka:20250923T123000
DTEND;TZID=America/Sitka:20250923T130000
DTSTAMP:20260423T033432
CREATED:20250419T141341Z
LAST-MODIFIED:20250419T141341Z
UID:488-1758630600-1758632400@alaskastorytellers.com
SUMMARY:Alaska Storytellers Show: HCH
DESCRIPTION:Alaska Storytellers performance at Harrigan Centennial Hall (HCH).\n\nTickets are available at the door within 30 minutes of showtime or may be purchased in advance.\n\nKids 10 and under FREE w/paying adult.\n\nTIME AND VENUE SUBJECT TO CHANGE\, so check www.alaskastorytellers.com for updates.
URL:https://alaskastorytellers.com/ticket/alaska-storytellers-show-hch-23/
LOCATION:Harrigan Centennial Hall\, 330 Harbor Dr\, Sitka\, AK\, 99835\, United States
CATEGORIES:Showtimes
ORGANIZER;CN="Alaska Storytellers":MAILTO:friends@alaskastorytellers.com
END:VEVENT
BEGIN:VEVENT
DTSTART;TZID=America/Sitka:20250924T123000
DTEND;TZID=America/Sitka:20250924T130000
DTSTAMP:20260423T033432
CREATED:20250419T141419Z
LAST-MODIFIED:20250419T141419Z
UID:490-1758717000-1758718800@alaskastorytellers.com
SUMMARY:Alaska Storytellers Show: HCH
DESCRIPTION:Alaska Storytellers performance at Harrigan Centennial Hall (HCH).\n\nTickets are available at the door within 30 minutes of showtime or may be purchased in advance.\n\nKids 10 and under FREE w/paying adult.\n\nTIME AND VENUE SUBJECT TO CHANGE\, so check www.alaskastorytellers.com for updates.
URL:https://alaskastorytellers.com/ticket/alaska-storytellers-show-hch-24/
LOCATION:Harrigan Centennial Hall\, 330 Harbor Dr\, Sitka\, AK\, 99835\, United States
CATEGORIES:Showtimes
ORGANIZER;CN="Alaska Storytellers":MAILTO:friends@alaskastorytellers.com
END:VEVENT
BEGIN:VEVENT
DTSTART;TZID=America/Sitka:20250930T123000
DTEND;TZID=America/Sitka:20250930T123000
DTSTAMP:20260423T033432
CREATED:20250503T203025Z
LAST-MODIFIED:20251223T065351Z
UID:484-1759235400-1759235400@alaskastorytellers.com
SUMMARY:Alaska Storytellers Show at HCH
DESCRIPTION:Alaska Storytellers show at Sitka Cirque (SC) 207 Smith Street.\n\nTickets are available at the door within 30 minutes of showtime or may be purchased in advance.\n\nKids 10 and under FREE w/paying adult.\n\nTIME AND VENUE SUBJECT TO CHANGE\, so check back for updates.
URL:https://alaskastorytellers.com/ticket/performing-at-sc-3/
LOCATION:Sitka Cirque\, 207 Smith St.\, Sitka\, AK\, 99835\, United States
CATEGORIES:Showtimes
ORGANIZER;CN="Alaska Storytellers":MAILTO:friends@alaskastorytellers.com
END:VEVENT
END:VCALENDAR